BEGIN:VCALENDAR
PRODID:-//eluceo/ical//2.0/EN
VERSION:2.0
CALSCALE:GREGORIAN
BEGIN:VEVENT
UID:4c10133f405454f7cd69a270b7290c50
DTSTAMP:20260422T122202Z
SUMMARY:Montagsapéro in der Käserei Eberle
DESCRIPTION:Webbplats: https://kaeserei-muolen.ch/\nTalare: Johannes Eberle
  ist Gastgeber.
URL:https://rotary-oberthurgau.ch/sv/agenda/show/164253
DTSTART;TZID=Europe/Zurich:20230807T190000
DTEND;TZID=Europe/Zurich:20230807T200000
LOCATION:Käserei Eberle\, Dorfstrasse 38\, 9313 Muolen\, Schweiz
CATEGORIES:Rotary
END:VEVENT
BEGIN:VTIMEZONE
TZID:Europe/Zurich
BEGIN:DAYLIGHT
DTSTART:20230807T190000
TZNAME:CEST
TZOFFSETTO:+0200
TZOFFSETFROM:+0200
END:DAYLIGHT
END:VTIMEZONE
END:VCALENDAR
