BEGIN:VCALENDAR
PRODID:-//eluceo/ical//2.0/EN
VERSION:2.0
CALSCALE:GREGORIAN
BEGIN:VEVENT
UID:dff31df3493601879ca8e0a807b4c9e0
DTSTAMP:20260425T034723Z
SUMMARY:Stallwache im Schloss Hagenwil
DESCRIPTION:Website: http://www.schloss-hagenwil.ch\nSprekers: 
URL:https://rotary-oberthurgau.ch/nl/agenda/show/166468
DTSTART;TZID=Europe/Zurich:20230810T120000
DTEND;TZID=Europe/Zurich:20230810T133000
LOCATION:Wasserschloss Hagenwil
CATEGORIES:Rotary
END:VEVENT
BEGIN:VTIMEZONE
TZID:Europe/Zurich
BEGIN:DAYLIGHT
DTSTART:20230810T120000
TZNAME:CEST
TZOFFSETTO:+0200
TZOFFSETFROM:+0200
END:DAYLIGHT
END:VTIMEZONE
END:VCALENDAR
