BEGIN:VCALENDAR
PRODID:-//eluceo/ical//2.0/EN
VERSION:2.0
CALSCALE:GREGORIAN
BEGIN:VEVENT
UID:441e3d9c2652cf1eb6220df667cc59c1
DTSTAMP:20260422T104629Z
SUMMARY:Präsenzapero
DESCRIPTION:
URL:https://rotary-oberthurgau.ch/fr/agenda/show/22576
DTSTART;TZID=Europe/Zurich:20120405T180000
DTEND;TZID=Europe/Zurich:20120405T200000
LOCATION:Restaurant Ochsen
CATEGORIES:Rotary
END:VEVENT
BEGIN:VTIMEZONE
TZID:Europe/Zurich
BEGIN:DAYLIGHT
DTSTART:20120405T180000
TZNAME:CEST
TZOFFSETTO:+0200
TZOFFSETFROM:+0200
END:DAYLIGHT
END:VTIMEZONE
END:VCALENDAR
