BEGIN:VCALENDAR
PRODID:-//eluceo/ical//2.0/EN
VERSION:2.0
CALSCALE:GREGORIAN
BEGIN:VEVENT
UID:50e583e963aad25708e68cdeba656e52
DTSTAMP:20260422T090625Z
SUMMARY:Gegenbesuch beim RC Weinfelden
DESCRIPTION:Conférencier(s): Alfred Müller\, Vortrag
URL:https://rotary-oberthurgau.ch/fr/agenda/show/20215
DTSTART;TZID=Europe/Zurich:20120301T120000
DTEND;TZID=Europe/Zurich:20120301T140000
LOCATION:In Weinfelden
CATEGORIES:Rotary
END:VEVENT
BEGIN:VTIMEZONE
TZID:Europe/Zurich
BEGIN:STANDARD
DTSTART:20120301T120000
TZNAME:CET
TZOFFSETTO:+0100
TZOFFSETFROM:+0100
END:STANDARD
END:VTIMEZONE
END:VCALENDAR
