BEGIN:VCALENDAR
PRODID:-//eluceo/ical//2.0/EN
VERSION:2.0
CALSCALE:GREGORIAN
BEGIN:VEVENT
UID:2f03c564cec8931bb72d5ec09fd6143c
DTSTAMP:20260420T170219Z
SUMMARY:Kneipp
DESCRIPTION:Conférencier(s): Lothar Burghardt
URL:https://rotary-oberthurgau.ch/fr/agenda/show/20213
DTSTART;TZID=Europe/Zurich:20120221T120000
DTEND;TZID=Europe/Zurich:20120221T140000
LOCATION:Schloss Hagenwil\, Partnerinnen und Partner eingeladen
CATEGORIES:Rotary
END:VEVENT
BEGIN:VTIMEZONE
TZID:Europe/Zurich
BEGIN:STANDARD
DTSTART:20120221T120000
TZNAME:CET
TZOFFSETTO:+0100
TZOFFSETFROM:+0100
END:STANDARD
END:VTIMEZONE
END:VCALENDAR
