BEGIN:VCALENDAR
PRODID:-//eluceo/ical//2.0/EN
VERSION:2.0
CALSCALE:GREGORIAN
BEGIN:VEVENT
UID:54bcbd3469743c6b702223325825d9eb
DTSTAMP:20260420T151305Z
SUMMARY:Regio Stamm
DESCRIPTION:
URL:https://rotary-oberthurgau.ch/fr/agenda/show/20211
DTSTART;TZID=Europe/Zurich:20120208T120000
DTEND;TZID=Europe/Zurich:20120208T140000
LOCATION:Landgasthof Seelust Wiedehorn
CATEGORIES:Rotary
END:VEVENT
BEGIN:VTIMEZONE
TZID:Europe/Zurich
BEGIN:STANDARD
DTSTART:20120208T120000
TZNAME:CET
TZOFFSETTO:+0100
TZOFFSETFROM:+0100
END:STANDARD
END:VTIMEZONE
END:VCALENDAR
