BEGIN:VCALENDAR
PRODID:-//eluceo/ical//2.0/EN
VERSION:2.0
CALSCALE:GREGORIAN
BEGIN:VEVENT
UID:3d9c3fb0bec20a5d4af92b4b41291b5d
DTSTAMP:20260422T090629Z
SUMMARY:Ihre Gesundheit: Chancen und Risiken
DESCRIPTION:Conférencier(s): Felix Braun
URL:https://rotary-oberthurgau.ch/fr/agenda/show/20139
DTSTART;TZID=Europe/Zurich:20120124T120000
DTEND;TZID=Europe/Zurich:20120124T140000
LOCATION:Landgasthof Seelust\, Wiedehorn
CATEGORIES:Rotary
END:VEVENT
BEGIN:VTIMEZONE
TZID:Europe/Zurich
BEGIN:STANDARD
DTSTART:20120124T120000
TZNAME:CET
TZOFFSETTO:+0100
TZOFFSETFROM:+0100
END:STANDARD
END:VTIMEZONE
END:VCALENDAR
