BEGIN:VCALENDAR
PRODID:-//eluceo/ical//2.0/EN
VERSION:2.0
CALSCALE:GREGORIAN
BEGIN:VEVENT
UID:8e86fb64d6a179d9d0c7ee8f3928dd70
DTSTAMP:20260422T090429Z
SUMMARY:Neue Klassifikation Urban Kronenberg
DESCRIPTION:Conférencier(s): Urban Kronenberg
URL:https://rotary-oberthurgau.ch/fr/agenda/show/20138
DTSTART;TZID=Europe/Zurich:20120117T120000
DTEND;TZID=Europe/Zurich:20120117T140000
LOCATION:Landgasthof Seelust\, Wiedehorn
CATEGORIES:Rotary
END:VEVENT
BEGIN:VTIMEZONE
TZID:Europe/Zurich
BEGIN:STANDARD
DTSTART:20120117T120000
TZNAME:CET
TZOFFSETTO:+0100
TZOFFSETFROM:+0100
END:STANDARD
END:VTIMEZONE
END:VCALENDAR
