BEGIN:VCALENDAR
PRODID:-//eluceo/ical//2.0/EN
VERSION:2.0
CALSCALE:GREGORIAN
BEGIN:VEVENT
UID:32fafe4173bfc3cd19a1075f946c543e
DTSTAMP:20260420T170315Z
SUMMARY:Regio-Stamm
DESCRIPTION:
URL:https://rotary-oberthurgau.ch/fr/agenda/show/19469
DTSTART;TZID=Europe/Zurich:20111109T180000
DTEND;TZID=Europe/Zurich:20111109T200000
LOCATION:Hotel Seelust\, Wiedehorn
CATEGORIES:Rotary
END:VEVENT
BEGIN:VTIMEZONE
TZID:Europe/Zurich
BEGIN:STANDARD
DTSTART:20111109T180000
TZNAME:CET
TZOFFSETTO:+0100
TZOFFSETFROM:+0100
END:STANDARD
END:VTIMEZONE
END:VCALENDAR
